BEGIN:VCALENDAR
VERSION:2.0
PRODID:-//City Elite Group - ECPv6.15.3//NONSGML v1.0//EN
CALSCALE:GREGORIAN
METHOD:PUBLISH
X-WR-CALNAME:City Elite Group
X-ORIGINAL-URL:https://cityelitegroup.com
X-WR-CALDESC:Events for City Elite Group
REFRESH-INTERVAL;VALUE=DURATION:PT1H
X-Robots-Tag:noindex
X-PUBLISHED-TTL:PT1H
BEGIN:VTIMEZONE
TZID:UTC
BEGIN:STANDARD
TZOFFSETFROM:+0000
TZOFFSETTO:+0000
TZNAME:UTC
DTSTART:20260101T000000
END:STANDARD
END:VTIMEZONE
BEGIN:VEVENT
DTSTART;TZID=UTC:20260619T110000
DTEND;TZID=UTC:20260619T180000
DTSTAMP:20260420T052213
CREATED:20260407T154640Z
LAST-MODIFIED:20260409T181209Z
UID:10001639-1781866800-1781892000@cityelitegroup.com
SUMMARY:BOHO SUMMER POOL PARTY
DESCRIPTION:Celebrate in style at the Happy People Pool Party – rooftop experience at the Ravel Hotel featuring high-energy vibes \, Beautiful people \nTicket Only Event No Door Sales : \nStep into elevated summer indulgence as Happy People presents an exclusive rooftop pool affair in the heart of New York City. \nOn June 19th\, celebrate Juneteenth in refined style at the stunning Ravel Hotel Pool\, where luxury meets vibrant energy. From 11AM to 6PM\, immerse yourself in a sun-drenched escape featuring pristine poolside lounging\, curated sounds\, and an effortlessly chic crowd. \nSip\, unwind\, and connect beneath the skyline as the city’s tastemakers gather for an unforgettable daytime experience. This is not just a party — it’s a statement of culture\, elegance\, and celebration. \nDress Code: High Fashion Swimwear is a must. Think 5th Ave glamour — flowy cover-ups\, mesh fits\, short shorts\, and statement shades. \nDress impeccably. Arrive early. Indulge fully. \n  \n#HappyPeople #NYCPoolParty #JuneteenthVibes #LuxuryDayParty
URL:https://cityelitegroup.com/event/happy-people-juneteenth-pool-experience/
LOCATION:ravel hotel pool\, 8-08 Queens Plaza Street\, Queens\, NY\, 11101\, United States
ATTACH;FMTTYPE=image/jpeg:https://cityelitegroup.com/wp-content/uploads/2026/04/WhatsApp-Image-2026-04-09-at-14.01.38.jpeg
END:VEVENT
END:VCALENDAR